BEGIN:VCALENDAR
VERSION:2.0
PRODID:-//pretix//Graf_Karl_installation//
BEGIN:VEVENT
UID:pretix-SYNERGIE-two-0@tickets.grafkarl.de
DTSTART:20250816T160000Z
DTEND:20250816T170000Z
DESCRIPTION:Tickets: https://tickets.grafkarl.de/SYNERGIE/two/\nEinlass: 16
 .08.2025 16:00\nVeranstalter: SYNERGIE
DTSTAMP:20260425T111855Z
LOCATION:Club GRAF KARL
SUMMARY:SYNERGIE day + night w/ 5euroGoldi & Cargo
END:VEVENT
END:VCALENDAR
